BEGIN:VCALENDAR
VERSION:2.0
PRODID:-//Sensory Services by Sight for Surrey - ECPv6.15.20//NONSGML v1.0//EN
CALSCALE:GREGORIAN
METHOD:PUBLISH
X-WR-CALNAME:Sensory Services by Sight for Surrey
X-ORIGINAL-URL:https://sightforsurrey.org.uk
X-WR-CALDESC:Events for Sensory Services by Sight for Surrey
REFRESH-INTERVAL;VALUE=DURATION:PT1H
X-Robots-Tag:noindex
X-PUBLISHED-TTL:PT1H
BEGIN:VTIMEZONE
TZID:UTC
BEGIN:STANDARD
TZOFFSETFROM:+0000
TZOFFSETTO:+0000
TZNAME:UTC
DTSTART:20250101T000000
END:STANDARD
END:VTIMEZONE
BEGIN:VEVENT
DTSTART;TZID=UTC:20260305T100000
DTEND;TZID=UTC:20260305T120000
DTSTAMP:20260422T153930
CREATED:20251210T141452Z
LAST-MODIFIED:20251210T142847Z
UID:21478-1772704800-1772712000@sightforsurrey.org.uk
SUMMARY:Meet Up Catch Up\, Godalming\, 5th March 2026
DESCRIPTION:Meet-Up Catch-Up is a friendly\, relaxed gathering aimed at bringing the local community together and reducing the social isolation often experienced by people who are Deaf or who have sight or hearing impairments. It’s an opportunity to meet others\, enjoy a conversation\, and make new friends in a warm\, supportive setting. No booking is required—simply drop in\, grab a cuppa\, have a biscuit\, and enjoy a chat! Whether you want to connect with others\, share your experiences\, or just enjoy some company\, we’d be delighted to have you join us. Everyone is welcome! \nEvery 1st Thursday of the month\, Wilfrid Noyce Centre\,10am to 12pm.
URL:https://sightforsurrey.org.uk/event/meet-up-catch-up-godalming-5th-march-2026/
LOCATION:Wilfrid Noyce Centre\, Crown Court\, High Street\, Godalming\, Surrey\, GU7 1DY\, United Kingdom
ORGANIZER;CN="Sensory Services by Sight for Surrey":MAILTO:info@sightforsurrey.org.uk
END:VEVENT
BEGIN:VEVENT
DTSTART;TZID=UTC:20260310T100000
DTEND;TZID=UTC:20260310T130000
DTSTAMP:20260422T153930
CREATED:20260114T145453Z
LAST-MODIFIED:20260114T145535Z
UID:21676-1773136800-1773147600@sightforsurrey.org.uk
SUMMARY:Deaf Cafe\, Redhill\, 10th March 2026
DESCRIPTION:Get yourself a cuppa and a cookie and be ready for a catch-up at the Deaf Cafe. Our cafes are run by Cathy\, our Deaf Community Coordinator\, and bring together the Deaf community in a welcoming and supportive environment. \nA variety of speakers and services will be present each month bringing tailored information in British Sign Language (BSL). \nBSL Interpreters will also be present. \nNo need to book just turn up.
URL:https://sightforsurrey.org.uk/event/deaf-cafe-redhill-10th-march-2026/
LOCATION:Redhill Methodist Church\, Gloucester Road\, Redhill\, RH1 1BP\, United Kingdom
ORGANIZER;CN="Sensory Services by Sight for Surrey":MAILTO:info@sightforsurrey.org.uk
END:VEVENT
BEGIN:VEVENT
DTSTART;TZID=UTC:20260311T100000
DTEND;TZID=UTC:20260311T120000
DTSTAMP:20260422T153930
CREATED:20251210T154230Z
LAST-MODIFIED:20251210T154230Z
UID:21520-1773223200-1773230400@sightforsurrey.org.uk
SUMMARY:Meet Up Catch Up\, Oxted\, 11th March 2026
DESCRIPTION:Meet-Up Catch-Up is a friendly\, relaxed gathering aimed at bringing the local community together and reducing the social isolation often experienced by people who are Deaf or who have sight or hearing impairments. It’s an opportunity to meet others\, enjoy a conversation\, and make new friends in a warm\, supportive setting. No booking is required—simply drop in\, grab a cuppa\, have a biscuit\, and enjoy a chat! Whether you want to connect with others\, share your experiences\, or just enjoy some company\, we’d be delighted to have you join us. Everyone is welcome! \nEvery 2nd Wednesday of the month\, Oxted Library\,10am to 12pm.
URL:https://sightforsurrey.org.uk/event/meet-up-catch-up-oxted-11th-march-2026/
LOCATION:Oxted Library\, 12 Gresham Road\, Oxted\, RH8 0BQ
ORGANIZER;CN="Sensory Services by Sight for Surrey":MAILTO:info@sightforsurrey.org.uk
END:VEVENT
BEGIN:VEVENT
DTSTART;TZID=UTC:20260316T110000
DTEND;TZID=UTC:20260316T140000
DTSTAMP:20260422T153930
CREATED:20260114T150805Z
LAST-MODIFIED:20260114T150805Z
UID:21688-1773658800-1773669600@sightforsurrey.org.uk
SUMMARY:Deaf Cafe\, Woking\, 16th March 2026
DESCRIPTION:Get yourself a cuppa and a cookie and be ready for a catch-up at the Deaf Cafe. Our cafes are run by Cathy\, our Deaf Community Coordinator\, and bring together the Deaf community in a welcoming and supportive environment. \nA variety of speakers and services will be present each month bringing tailored information in British Sign Language (BSL). \nBSL Interpreters will also be present. \nNo need to book just turn up.
URL:https://sightforsurrey.org.uk/event/deaf-cafe-woking-16th-march-2026/
LOCATION:Woking United Reform Church\, White Rose Lane\, Woking\, Surrey\, GU22 7HA\, United Kingdom
ORGANIZER;CN="Sensory Services by Sight for Surrey":MAILTO:info@sightforsurrey.org.uk
END:VEVENT
BEGIN:VEVENT
DTSTART;TZID=UTC:20260317T100000
DTEND;TZID=UTC:20260317T120000
DTSTAMP:20260422T153930
CREATED:20251209T155220Z
LAST-MODIFIED:20251209T160402Z
UID:21437-1773741600-1773748800@sightforsurrey.org.uk
SUMMARY:Meet Up Catch Up\, Epsom\, 17th March 2026
DESCRIPTION:Meet-Up Catch-Up is a friendly\, relaxed gathering aimed at bringing the local community together and reducing the social isolation often experienced by people who are Deaf or who have sight or hearing impairments. It’s an opportunity to meet others\, enjoy a conversation\, and make new friends in a warm\, supportive setting. No booking is required—simply drop in\, grab a cuppa\, have a biscuit\, and enjoy a chat! Whether you want to connect with others\, share your experiences\, or just enjoy some company\, we’d be delighted to have you join us. Everyone is welcome! \nEvery 3rd Tuesday of the month at Epsom Library.
URL:https://sightforsurrey.org.uk/event/meet-up-catch-up-epsom-17th-march-2026/
LOCATION:Epsom Library\, 6 Epsom Square\, Epsom\, KT19 8AG\, 6 Epsom Square\, Epsom\, Surrey\, KT19 8AG\, United Kingdom
ORGANIZER;CN="Sensory Services by Sight for Surrey":MAILTO:info@sightforsurrey.org.uk
END:VEVENT
BEGIN:VEVENT
DTSTART;TZID=UTC:20260318T100000
DTEND;TZID=UTC:20260318T120000
DTSTAMP:20260422T153930
CREATED:20251210T151004Z
LAST-MODIFIED:20251210T151004Z
UID:21498-1773828000-1773835200@sightforsurrey.org.uk
SUMMARY:Meet Up Catch Up\, New Haw\, 18th March 2026
DESCRIPTION:Meet-Up Catch-Up is a friendly\, relaxed gathering aimed at bringing the local community together and reducing the social isolation often experienced by people who are Deaf or who have sight or hearing impairments. It’s an opportunity to meet others\, enjoy a conversation\, and make new friends in a warm\, supportive setting. No booking is required—simply drop in\, grab a cuppa\, have a biscuit\, and enjoy a chat! Whether you want to connect with others\, share your experiences\, or just enjoy some company\, we’d be delighted to have you join us. Everyone is welcome! \nEvery 3rd Wednesday of the month\, New Haw Library\,10am to 12pm.
URL:https://sightforsurrey.org.uk/event/meet-up-catch-up-new-haw-18th-march-2026/
LOCATION:New Haw Library\, 28A The Broadway\, New Haw\, KT15 3HA\, United Kingdom
ORGANIZER;CN="Sensory Services by Sight for Surrey":MAILTO:fundraising@sightforsurrey.org.uk
END:VEVENT
BEGIN:VEVENT
DTSTART;TZID=UTC:20260325T110000
DTEND;TZID=UTC:20260325T123000
DTSTAMP:20260422T153930
CREATED:20260106T143051Z
LAST-MODIFIED:20260106T143052Z
UID:21572-1774436400-1774441800@sightforsurrey.org.uk
SUMMARY:Let's Talk Tech\, 25th March 2026 - An Introduction to Windows Screen Readers
DESCRIPTION:Let’s Talk Tech is a friendly and informative webinar series for people who are blind or partially sighted covering a wide range of technology topics presented by Gary Eady and Keith Dear from the Technology Team. Whether you are interested in accessible technology\, new digital tools or tips for everyday tech use\, these sessions are a great way to learn and ask questions. \nThis month the topic is An Introduction to Screen Readers. In this session we will discuss and demonstrate the range of screen reading applications which can be used tin the Windows 11 operating system. These will include: \n\nJAWS\nNVDA\nSuperNova\nNarrator\nHow Ai screen reader can be used to read text from the screen such as documents\, email messages and web pages.\n\nTo book a place please call our Helpdesk on 01372 377701 or email technology@sightforsurrey.org.uk and state that you would like to join the next Let’s Talk Tech and the subject being covered.
URL:https://sightforsurrey.org.uk/event/lets-talk-tech-25th-march-2026-an-introduction-to-windows-screen-readers/
LOCATION:Online
ORGANIZER;CN="Sensory Services by Sight for Surrey":MAILTO:info@sightforsurrey.org.uk
END:VEVENT
BEGIN:VEVENT
DTSTART;TZID=UTC:20260327T100000
DTEND;TZID=UTC:20260327T120000
DTSTAMP:20260422T153930
CREATED:20251210T134818Z
LAST-MODIFIED:20251210T134818Z
UID:21461-1774605600-1774612800@sightforsurrey.org.uk
SUMMARY:Meet Up Catch Up\, Fetcham\, 27th March 2026
DESCRIPTION:Meet-Up Catch-Up is a friendly\, relaxed gathering aimed at bringing the local community together and reducing the social isolation often experienced by people who are Deaf or who have sight or hearing impairments. It’s an opportunity to meet others\, enjoy a conversation\, and make new friends in a warm\, supportive setting. No booking is required—simply drop in\, grab a cuppa\, have a biscuit\, and enjoy a chat! Whether you want to connect with others\, share your experiences\, or just enjoy some company\, we’d be delighted to have you join us. Everyone is welcome! \nLast Friday of the month\, St. Mary’s Church\, Fetcham\, 10am to 12pm.
URL:https://sightforsurrey.org.uk/event/meet-up-catch-up-fetcham-27th-march-2026/
LOCATION:St. Mary’s Church\, 10A The Ridgeway\, Fetcham\, Surrey\, KT22 9AZ\, United Kingdom
ORGANIZER;CN="Sensory Services by Sight for Surrey":MAILTO:info@sightforsurrey.org.uk
END:VEVENT
END:VCALENDAR