BEGIN:VCALENDAR
VERSION:2.0
PRODID:-//Sensory Services by Sight for Surrey - ECPv6.15.20//NONSGML v1.0//EN
CALSCALE:GREGORIAN
METHOD:PUBLISH
X-ORIGINAL-URL:https://sightforsurrey.org.uk
X-WR-CALDESC:Events for Sensory Services by Sight for Surrey
REFRESH-INTERVAL;VALUE=DURATION:PT1H
X-Robots-Tag:noindex
X-PUBLISHED-TTL:PT1H
BEGIN:VTIMEZONE
TZID:UTC
BEGIN:STANDARD
TZOFFSETFROM:+0000
TZOFFSETTO:+0000
TZNAME:UTC
DTSTART:20240101T000000
END:STANDARD
END:VTIMEZONE
BEGIN:VEVENT
DTSTART;TZID=UTC:20251002T100000
DTEND;TZID=UTC:20251002T120000
DTSTAMP:20260423T002200
CREATED:20250613T142408Z
LAST-MODIFIED:20250613T142408Z
UID:20660-1759399200-1759406400@sightforsurrey.org.uk
SUMMARY:Meet Up Catch Up\, Godalming\, 2nd October 2025
DESCRIPTION:Join Us for the October Meet Up Catch Up in Godalming! \nMeet Up Catch Up is a welcoming\, informal get-together designed to help bring the local community together and tackle the social isolation that many people who are Deaf or who have sight or hearing impairments often face. It’s a chance to connect\, enjoy a chat\, and make new friends in a relaxed and supportive environment. \nThere is no need to book\, just turn up\, and the event is free.
URL:https://sightforsurrey.org.uk/event/meet-up-catch-up-godalming-2nd-october-2025/
LOCATION:Wilfrid Noyce Centre\, Crown Court\, High Street\, Godalming\, GU7 1DY\, Crown Court\, High Street\, Godalming\, Surrey\, GU7 1DY\, United Kingdom
ORGANIZER;CN="Sensory Services by Sight for Surrey":MAILTO:info@sightforsurrey.org.uk
END:VEVENT
BEGIN:VEVENT
DTSTART;TZID=UTC:20251008T100000
DTEND;TZID=UTC:20251008T120000
DTSTAMP:20260423T002200
CREATED:20250613T135327Z
LAST-MODIFIED:20250613T135327Z
UID:20646-1759917600-1759924800@sightforsurrey.org.uk
SUMMARY:Meet Up Catch Up\, Oxted\, 8th October 2025
DESCRIPTION:Join Us for the October Meet Up Catch Up in Oxted! \nMeet Up Catch Up is a welcoming\, informal get-together designed to help bring the local community together and tackle the social isolation that many people who are Deaf or who have sight or hearing impairments often face. It’s a chance to connect\, enjoy a chat\, and make new friends in a relaxed and supportive environment. There is no need to book\, just turn up\, and the event is free.
URL:https://sightforsurrey.org.uk/event/meet-up-catch-up-oxted-8th-october-2025/
LOCATION:Oxted Library\, 12 Gresham Road\, Oxted\, RH8 0BQ
ORGANIZER;CN="Sensory Services by Sight for Surrey":MAILTO:info@sightforsurrey.org.uk
END:VEVENT
BEGIN:VEVENT
DTSTART;TZID=UTC:20251014T100000
DTEND;TZID=UTC:20251014T130000
DTSTAMP:20260423T002200
CREATED:20250228T113232Z
LAST-MODIFIED:20250228T134537Z
UID:20106-1760436000-1760446800@sightforsurrey.org.uk
SUMMARY:Deaf Cafe\, Redhill\, 14th October 2025
DESCRIPTION:Come and join us at our monthly Deaf Cafe in Redhill to socialise and meet new people\, all ages welcome. A variety of guest speakers\, topics and activities take place every month. A British Sign Language interpreter is available. \nMonthly on a Tuesday from 10am to 1pm. \nAny requests please contact us using your preferred method of communication. \nText us to receive reminders and updates. \n  \nSMS: 07860 026 269 \nSkype: sensory.services \nFaceTime: dutysw@sensoryservices.org.uk \nSignLive via: www.sightforsurrey.org.uk \nEmail: dutysw@sightforsurrey.org.uk
URL:https://sightforsurrey.org.uk/event/deaf-cafe-redhill-14th-october-2025/
LOCATION:Redhill Methodist Church\, Gloucester Road\, Redhill\, RH1 1BP\, United Kingdom
ORGANIZER;CN="Sensory Services by Sight for Surrey":MAILTO:info@sightforsurrey.org.uk
END:VEVENT
BEGIN:VEVENT
DTSTART;TZID=UTC:20251015T093000
DTEND;TZID=UTC:20251015T153000
DTSTAMP:20260423T002200
CREATED:20250724T111054Z
LAST-MODIFIED:20250729T140953Z
UID:19743-1760520600-1760542200@sightforsurrey.org.uk
SUMMARY:Breaking Down Barriers\, 15th October 2025
DESCRIPTION:Breaking Down Barriers Workshop is a one day course for professionals in Surrey to gain an overview\, understanding and appreciation of inclusion\, accessibility and independence for and with people who are Deaf\, hard of hearing\, blind\, partially sighted\, deafblind. \nWith personal insight into everyday lived experience\, its challenges and opportunities\, you’ll learn about the practical support available\, accessible technology and communications and how we work with adults and children across Surrey. \nThis workshop will inspire and empower you to become a champion for access and inclusion in Surrey\, helping to break down the barriers so everyone can embrace an independent life at home\, at work and in our communities. \nProgramme includes: \n\nVision impairment awareness\, including ‘sighted guide’ taster\nDeaf and hard of hearing awareness taster\nUnderstanding combined sight and hearing loss and the deafblind experience\nAccessible technology\, resources and developments\, including equipment demos\nOvercoming barriers to access and inclusion discussion\nThe work of Sensory Services by Sight for Surrey and connections with Surrey County Council\nLight lunch and refreshments.\n\nPrevious attendees said: \n“It was helpful to take part in practical examples of what it’s like to have a vision impairment. It was also helpful to see how much Assistive Tech can help too.” \n“It was brilliant. The session on the hard of hearing and deafblind experience was very insightful.” \n“Enjoyable and inclusive training – I could not think of anything that could be improved.” \nA British Sign Language video is available to watch in the link here. \nTickets: £30 each \nTime: 09.30 to 15.30  \nTo book visit Breaking Down Barriers Workshop – Eventbrite booking
URL:https://sightforsurrey.org.uk/event/breaking-down-barriers-15th-october-2025/
LOCATION:Rentwood\, School Lane\, Fetcham\, KT22 9JX\, Rentwood\, School Lane\,\, Leatherhead\, Surrey\, KT22 9JX\, United Kingdom
ORGANIZER;CN="Sensory Services by Sight for Surrey":MAILTO:info@sightforsurrey.org.uk
END:VEVENT
BEGIN:VEVENT
DTSTART;TZID=UTC:20251015T100000
DTEND;TZID=UTC:20251015T120000
DTSTAMP:20260423T002200
CREATED:20250616T091550Z
LAST-MODIFIED:20250616T091550Z
UID:20693-1760522400-1760529600@sightforsurrey.org.uk
SUMMARY:Meet Up Catch Up\, New Haw\, 15th October 2025
DESCRIPTION:Our October Meet Up Catch Up is a welcoming\, informal get-together designed to help bring the local community together and tackle the social isolation that many people who are Deaf or who have sight or hearing impairments often face. It’s a chance to connect\, enjoy a chat\, and make new friends in a relaxed and supportive environment.There’s no need to book—just pop by\, grab a cuppa\, enjoy a biscuit\, and have a chat! Whether you’re looking to meet others in the community\, share experiences\, or just enjoy some company\, we’d love to see you there. Everyone is welcome!
URL:https://sightforsurrey.org.uk/event/meet-up-catch-up-new-haw-15th-october-2025/
LOCATION:New Haw Library\, 28A The Broadway\, New Haw\, KT15 3HA\, United Kingdom
ORGANIZER;CN="Sensory Services by Sight for Surrey":MAILTO:info@sightforsurrey.org.uk
END:VEVENT
BEGIN:VEVENT
DTSTART;TZID=UTC:20251020T110000
DTEND;TZID=UTC:20251020T140000
DTSTAMP:20260423T002200
CREATED:20250625T094624Z
LAST-MODIFIED:20250625T094624Z
UID:20823-1760958000-1760968800@sightforsurrey.org.uk
SUMMARY:Deaf Cafe\, Woking\, 20th October 2025
DESCRIPTION:Come and join us at our monthly Deaf Cafe in wonderful Woking to socialise and meet new people from the Deaf community\, all ages welcome. A variety of guest speakers\, topics and activities take place every month. A British Sign Language interpreter is available. Meet our Deaf Community Coordinator and members of our Deaf Social Work team. Tea/coffee and biscuits are provided a small donation is welcome. \nMonthly on a Monday from 11am to 2pm. \nAny requests please contact us using your preferred method of communication. \nText us to receive reminders and updates. \nSMS: 07860 026 269 \nFaceTime: dutysw@sensoryservices.org.uk \nSignLive via: www.sightforsurrey.org.uk \nEmail: dutysw@sightforsurrey.org.uk \nUnited Reform Church\, White Rose Lane\, Woking\, GU22 7HA.
URL:https://sightforsurrey.org.uk/event/deaf-cafe-woking-20th-october-2025/
LOCATION:Woking United Reform Church\, White Rose Lane\, Woking\, Surrey\, GU22 7HA\, United Kingdom
ORGANIZER;CN="Sensory Services by Sight for Surrey":MAILTO:info@sightforsurrey.org.uk
END:VEVENT
BEGIN:VEVENT
DTSTART;TZID=UTC:20251021T100000
DTEND;TZID=UTC:20251021T120000
DTSTAMP:20260423T002200
CREATED:20250613T151456Z
LAST-MODIFIED:20250613T151456Z
UID:20680-1761040800-1761048000@sightforsurrey.org.uk
SUMMARY:Meet Up Catch Up\, Epsom\, 21st October 2025
DESCRIPTION:Join Us for the October Meet Up Catch Up in Epsom! Please note new venue \nMeet Up Catch Up is a welcoming\, informal get-together designed to help bring the local community together and tackle the social isolation that many people who are Deaf or who have sight or hearing impairments often face. It’s a chance to connect\, enjoy a chat\, and make new friends in a relaxed and supportive environment. \nThere is no need to book\, just turn up\, and the event is free.
URL:https://sightforsurrey.org.uk/event/meet-up-catch-up-epsom-21st-october-2025/
LOCATION:Epsom Library\, 6 Epsom Square\, Epsom\, KT19 8AG\, 6 Epsom Square\, Epsom\, Surrey\, KT19 8AG\, United Kingdom
ORGANIZER;CN="Sensory Services by Sight for Surrey":MAILTO:info@sightforsurrey.org.uk
END:VEVENT
BEGIN:VEVENT
DTSTART;TZID=UTC:20251028T100000
DTEND;TZID=UTC:20251028T120000
DTSTAMP:20260423T002200
CREATED:20250616T095635Z
LAST-MODIFIED:20250616T095635Z
UID:20706-1761645600-1761652800@sightforsurrey.org.uk
SUMMARY:Meet Up Catch Up\, Fetcham\, 28th October 2025
DESCRIPTION:Our October Meet Up Catch Up is a welcoming\, informal get-together designed to help bring the local community together and tackle the social isolation that many people who are Deaf or who have sight or hearing impairments often face. It’s a chance to connect\, enjoy a chat\, and make new friends in a relaxed and supportive environment. There’s no need to book—just pop by\, grab a cuppa\, enjoy a biscuit\, and have a chat! Whether you’re looking to meet others in the community\, share experiences\, or just enjoy some company\, we’d love to see you there. Everyone is welcome!
URL:https://sightforsurrey.org.uk/event/meet-up-catch-up-fetcham-28th-october-2025/
LOCATION:Rentwood\, School Lane\, Fetcham\, KT22 9JX\, Rentwood\, School Lane\,\, Leatherhead\, Surrey\, KT22 9JX\, United Kingdom
ORGANIZER;CN="Sensory Services by Sight for Surrey":MAILTO:info@sightforsurrey.org.uk
END:VEVENT
END:VCALENDAR