BEGIN:VCALENDAR
VERSION:2.0
PRODID:-//Sensory Services by Sight for Surrey - ECPv6.15.20//NONSGML v1.0//EN
CALSCALE:GREGORIAN
METHOD:PUBLISH
X-ORIGINAL-URL:https://sightforsurrey.org.uk
X-WR-CALDESC:Events for Sensory Services by Sight for Surrey
REFRESH-INTERVAL;VALUE=DURATION:PT1H
X-Robots-Tag:noindex
X-PUBLISHED-TTL:PT1H
BEGIN:VTIMEZONE
TZID:UTC
BEGIN:STANDARD
TZOFFSETFROM:+0000
TZOFFSETTO:+0000
TZNAME:UTC
DTSTART:20240101T000000
END:STANDARD
END:VTIMEZONE
BEGIN:VEVENT
DTSTART;TZID=UTC:20250807T100000
DTEND;TZID=UTC:20250807T120000
DTSTAMP:20260423T035633
CREATED:20250613T141818Z
LAST-MODIFIED:20250613T141818Z
UID:20656-1754560800-1754568000@sightforsurrey.org.uk
SUMMARY:Meet Up Catch Up\, Godalming\, 7th August 2025
DESCRIPTION:Join Us for the August Meet Up Catch Up in Godalming! \nMeet Up Catch Up is a welcoming\, informal get-together designed to help bring the local community together and tackle the social isolation that many people who are Deaf or who have sight or hearing impairments often face. It’s a chance to connect\, enjoy a chat\, and make new friends in a relaxed and supportive environment. There is no need to book\, just turn up\, and the event is free.
URL:https://sightforsurrey.org.uk/event/meet-up-catch-up-godalming-7th-august-2025/
LOCATION:Wilfrid Noyce Centre\, Crown Court\, High Street\, Godalming\, GU7 1DY\, Crown Court\, High Street\, Godalming\, Surrey\, GU7 1DY\, United Kingdom
ORGANIZER;CN="Sensory Services by Sight for Surrey":MAILTO:info@sightforsurrey.org.uk
END:VEVENT
BEGIN:VEVENT
DTSTART;TZID=UTC:20250812T100000
DTEND;TZID=UTC:20250812T130000
DTSTAMP:20260423T035633
CREATED:20250228T112200Z
LAST-MODIFIED:20250228T112411Z
UID:20101-1754992800-1755003600@sightforsurrey.org.uk
SUMMARY:Deaf Cafe\, Redhill\, 12th August 2025
DESCRIPTION:Come and join us at our monthly Deaf Cafe in Redhill to socialise and meet new people\, all ages welcome. A variety of guest speakers\, topics and activities take place every month. A British Sign Language interpreter is available. \nMonthly on a Tuesday from 10am to 1pm. \nAny requests please contact us using your preferred method of communication. \nText us to receive reminders and updates. \n  \nSMS: 07860 026 269 \nSkype: sensory.services \nFaceTime: dutysw@sensoryservices.org.uk \nSignLive via: www.sightforsurrey.org.uk \nEmail: dutysw@sightforsurrey.org.uk
URL:https://sightforsurrey.org.uk/event/deaf-cafe-redhill-12th-august-2025/
LOCATION:Redhill Methodist Church\, Gloucester Road\, Redhill\, RH1 1BP\, United Kingdom
ORGANIZER;CN="Sensory Services by Sight for Surrey":MAILTO:info@sightforsurrey.org.uk
END:VEVENT
BEGIN:VEVENT
DTSTART;TZID=UTC:20250813T100000
DTEND;TZID=UTC:20250813T120000
DTSTAMP:20260423T035633
CREATED:20250613T112300Z
LAST-MODIFIED:20250613T125257Z
UID:20642-1755079200-1755086400@sightforsurrey.org.uk
SUMMARY:Meet Up Catch Up\, Oxted\, 13th August 2025
DESCRIPTION:Join Us for the August Meet Up Catch Up in Oxted! \nMeet Up Catch Up is a welcoming\, informal get-together designed to help bring the local community together and tackle the social isolation that many people who are Deaf or who have sight or hearing impairments often face. It’s a chance to connect\, enjoy a chat\, and make new friends in a relaxed and supportive environment. \nThere is no need to book\, just turn up\, and the event is free.
URL:https://sightforsurrey.org.uk/event/meet-up-catch-up-oxted-13th-august-2025/
LOCATION:Oxted Library\, 12 Gresham Road\, Oxted\, RH8 0BQ
ORGANIZER;CN="Sensory Services by Sight for Surrey":MAILTO:info@sightforsurrey.org.uk
END:VEVENT
BEGIN:VEVENT
DTSTART;TZID=UTC:20250818T110000
DTEND;TZID=UTC:20250818T140000
DTSTAMP:20260423T035633
CREATED:20250625T093535Z
LAST-MODIFIED:20250625T093535Z
UID:20817-1755514800-1755525600@sightforsurrey.org.uk
SUMMARY:Deaf Cafe\, Woking\, 18th August 2025
DESCRIPTION:Come and join us at our monthly Deaf Cafe in wonderful Woking to socialise and meet new people from the Deaf community\, all ages welcome. A variety of guest speakers\, topics and activities take place every month. A British Sign Language interpreter is available. Meet our Deaf Community Coordinator and members of our Deaf Social Work team. Tea/coffee and biscuits are provided a small donation is welcome. \nMonthly on a Monday from 11am to 2pm. \nAny requests please contact us using your preferred method of communication. \nText us to receive reminders and updates. \nSMS: 07860 026 269 \nFaceTime: dutysw@sensoryservices.org.uk \nSignLive via: www.sightforsurrey.org.uk \nEmail: dutysw@sightforsurrey.org.uk \n 
URL:https://sightforsurrey.org.uk/event/deaf-cafe-woking-18th-august-2025/
LOCATION:Woking United Reform Church\, White Rose Lane\, Woking\, Surrey\, GU22 7HA\, United Kingdom
ORGANIZER;CN="Sensory Services by Sight for Surrey":MAILTO:info@sightforsurrey.org.uk
END:VEVENT
BEGIN:VEVENT
DTSTART;TZID=UTC:20250819T100000
DTEND;TZID=UTC:20250819T120000
DTSTAMP:20260423T035633
CREATED:20250613T145454Z
LAST-MODIFIED:20250613T150805Z
UID:20672-1755597600-1755604800@sightforsurrey.org.uk
SUMMARY:Meet Up Catch Up\, Epsom\, 19th August 2025
DESCRIPTION:Join Us for the August Meet Up Catch Up in Epsom! Please note new venue \nMeet Up Catch Up is a welcoming\, informal get-together designed to help bring the local community together and tackle the social isolation that many people who are Deaf or who have sight or hearing impairments often face. It’s a chance to connect\, enjoy a chat\, and make new friends in a relaxed and supportive environment. There is no need to book\, just turn up\, and the event is free.
URL:https://sightforsurrey.org.uk/event/meet-up-catch-up-epsom-19th-august-2025/
LOCATION:Epsom Library\, 6 Epsom Square\, Epsom\, KT19 8AG\, 6 Epsom Square\, Epsom\, Surrey\, KT19 8AG\, United Kingdom
ORGANIZER;CN="Sensory Services by Sight for Surrey":MAILTO:info@sightforsurrey.org.uk
END:VEVENT
BEGIN:VEVENT
DTSTART;TZID=UTC:20250820T100000
DTEND;TZID=UTC:20250820T120000
DTSTAMP:20260423T035633
CREATED:20250616T090644Z
LAST-MODIFIED:20250616T090644Z
UID:20689-1755684000-1755691200@sightforsurrey.org.uk
SUMMARY:Meet Up Catch Up\, New Haw\, 20th August 2025
DESCRIPTION:Our August Meet Up Catch Up is a welcoming\, informal get-together designed to help bring the local community together and tackle the social isolation that many people who are Deaf or who have sight or hearing impairments often face. It’s a chance to connect\, enjoy a chat\, and make new friends in a relaxed and supportive environment. There’s no need to book—just pop by\, grab a cuppa\, enjoy a biscuit\, and have a chat! Whether you’re looking to meet others in the community\, share experiences\, or just enjoy some company\, we’d love to see you there. Everyone is welcome!
URL:https://sightforsurrey.org.uk/event/meet-up-catch-up-new-haw-20th-august-2025/
LOCATION:New Haw Library\, 28A The Broadway\, New Haw\, KT15 3HA\, United Kingdom
ORGANIZER;CN="Sensory Services by Sight for Surrey":MAILTO:info@sightforsurrey.org.uk
END:VEVENT
BEGIN:VEVENT
DTSTART;TZID=UTC:20250826T100000
DTEND;TZID=UTC:20250826T120000
DTSTAMP:20260423T035633
CREATED:20250616T095241Z
LAST-MODIFIED:20250616T095241Z
UID:20702-1756202400-1756209600@sightforsurrey.org.uk
SUMMARY:Meet Up Catch Up\, Fetcham\, 26th August 2025
DESCRIPTION:Our August Meet Up Catch Up is a welcoming\, informal get-together designed to help bring the local community together and tackle the social isolation that many people who are Deaf or who have sight or hearing impairments often face. It’s a chance to connect\, enjoy a chat\, and make new friends in a relaxed and supportive environment. There’s no need to book—just pop by\, grab a cuppa\, enjoy a biscuit\, and have a chat! Whether you’re looking to meet others in the community\, share experiences\, or just enjoy some company\, we’d love to see you there. Everyone is welcome!
URL:https://sightforsurrey.org.uk/event/meet-up-catch-up-fetcham-26th-august-2025/
LOCATION:Rentwood\, School Lane\, Fetcham\, KT22 9JX\, Rentwood\, School Lane\,\, Leatherhead\, Surrey\, KT22 9JX\, United Kingdom
ORGANIZER;CN="Sensory Services by Sight for Surrey":MAILTO:info@sightforsurrey.org.uk
END:VEVENT
END:VCALENDAR