BEGIN:VCALENDAR
VERSION:2.0
PRODID:-//Sensory Services by Sight for Surrey - ECPv6.15.20//NONSGML v1.0//EN
CALSCALE:GREGORIAN
METHOD:PUBLISH
X-WR-CALNAME:Sensory Services by Sight for Surrey
X-ORIGINAL-URL:https://sightforsurrey.org.uk
X-WR-CALDESC:Events for Sensory Services by Sight for Surrey
REFRESH-INTERVAL;VALUE=DURATION:PT1H
X-Robots-Tag:noindex
X-PUBLISHED-TTL:PT1H
BEGIN:VTIMEZONE
TZID:UTC
BEGIN:STANDARD
TZOFFSETFROM:+0000
TZOFFSETTO:+0000
TZNAME:UTC
DTSTART:20250101T000000
END:STANDARD
END:VTIMEZONE
BEGIN:VEVENT
DTSTART;TZID=UTC:20261203T100000
DTEND;TZID=UTC:20261203T120000
DTSTAMP:20260423T085540
CREATED:20260204T104301Z
LAST-MODIFIED:20260204T104301Z
UID:21881-1796292000-1796299200@sightforsurrey.org.uk
SUMMARY:Meet Up Catch Up\, Godalming\, 3rd December 2026
DESCRIPTION:Meet-Up Catch-Up is a friendly\, relaxed gathering aimed at bringing the local community together and reducing the social isolation often experienced by people who are Deaf or who have sight or hearing impairments. It’s an opportunity to meet others\, enjoy a conversation\, and make new friends in a warm\, supportive setting. No booking is required—simply drop in\, grab a cuppa\, have a biscuit\, and enjoy a chat! Whether you want to connect with others\, share your experiences\, or just enjoy some company\, we’d be delighted to have you join us. Everyone is welcome! \nEvery 1st Thursday of the month\, Wilfrid Noyce Centre\,10am to 12pm.
URL:https://sightforsurrey.org.uk/event/meet-up-catch-up-godalming-3rd-december-2026/
LOCATION:Wilfrid Noyce Centre\, Crown Court\, High Street\, Godalming\, GU7 1DY\, Crown Court\, High Street\, Godalming\, Surrey\, GU7 1DY\, United Kingdom
ORGANIZER;CN="Sensory Services by Sight for Surrey":MAILTO:info@sightforsurrey.org.uk
END:VEVENT
BEGIN:VEVENT
DTSTART;TZID=UTC:20261208T100000
DTEND;TZID=UTC:20261208T130000
DTSTAMP:20260423T085540
CREATED:20260115T100405Z
LAST-MODIFIED:20260115T100405Z
UID:21707-1796724000-1796734800@sightforsurrey.org.uk
SUMMARY:Deaf Cafe\, Redhill\, 8th December 2026
DESCRIPTION:Get yourself a cuppa and a cookie and be ready for a catch-up at the Deaf Cafe. Our cafes are run by Cathy\, our Deaf Community Coordinator\, and bring together the Deaf community in a welcoming and supportive environment. \nA variety of speakers and services will be present each month bringing tailored information in British Sign Language (BSL). \nBSL Interpreters will also be present. \nNo need to book just turn up.
URL:https://sightforsurrey.org.uk/event/deaf-cafe-redhill-8th-december-2026/
LOCATION:Redhill Methodist Church\, Gloucester Road\, Redhill\, RH1 1BP\, United Kingdom
ORGANIZER;CN="Sensory Services by Sight for Surrey":MAILTO:fundraising@sightforsurrey.org.uk
END:VEVENT
BEGIN:VEVENT
DTSTART;TZID=UTC:20261209T093000
DTEND;TZID=UTC:20261209T120000
DTSTAMP:20260423T085540
CREATED:20260119T155033Z
LAST-MODIFIED:20260119T155033Z
UID:21804-1796808600-1796817600@sightforsurrey.org.uk
SUMMARY:Meet Up Catch Up\, Oxted\, 9th December 2026
DESCRIPTION:Meet-Up Catch-Up is a relaxed and friendly get-together designed to bring local people together and help reduce the social isolation that can be experienced by people who are blind or partially sighted\, or who have sensory loss. It offers a welcoming space to meet others\, enjoy good conversation\, and build new friendships in a supportive environment. \nThere’s no need to book—just drop in\, enjoy a cuppa and a biscuit\, and have a chat. Whether you’re looking to connect with others\, share your experiences\, or simply enjoy some company\, we’d love to see you. Everyone is welcome! \nWhen: Every 2nd Wednesday of the monthWhere: Oxted LibraryTime: 10am–12pm
URL:https://sightforsurrey.org.uk/event/meet-up-catch-up-oxted-9th-december-2026/
LOCATION:Oxted Library\, 12 Gresham Road\, Oxted\, RH8 0BQ
ORGANIZER;CN="Sensory Services by Sight for Surrey":MAILTO:info@sightforsurrey.org.uk
END:VEVENT
BEGIN:VEVENT
DTSTART;TZID=UTC:20261215T100000
DTEND;TZID=UTC:20261215T120000
DTSTAMP:20260423T085540
CREATED:20260119T160652Z
LAST-MODIFIED:20260119T160721Z
UID:21816-1797328800-1797336000@sightforsurrey.org.uk
SUMMARY:Meet Up Catch Up\, Epsom\, 15th December 2026
DESCRIPTION:Meet-Up Catch-Up is a relaxed and friendly get-together designed to bring local people together and help reduce the social isolation that can be experienced by people who are blind or partially sighted\, or who have sensory loss. It offers a welcoming space to meet others\, enjoy good conversation\, and build new friendships in a supportive environment. \nThere’s no need to book—just drop in\, enjoy a cuppa and a biscuit\, and have a chat. Whether you’re looking to connect with others\, share your experiences\, or simply enjoy some company\, we’d love to see you. Everyone is welcome! \nWhen: Every 3rd Tuesday of the monthWhere: Epsom LibraryTime: 10am–12pm
URL:https://sightforsurrey.org.uk/event/meet-up-catch-up-epsom-15th-december-2026/
LOCATION:Epsom Library\, 6 Epsom Square\, Epsom\, KT19 8AG\, 6 Epsom Square\, Epsom\, Surrey\, KT19 8AG\, United Kingdom
ORGANIZER;CN="Sensory Services by Sight for Surrey":MAILTO:info@sightforsurrey.org.uk
END:VEVENT
BEGIN:VEVENT
DTSTART;TZID=UTC:20261216T100000
DTEND;TZID=UTC:20261216T120000
DTSTAMP:20260423T085540
CREATED:20260204T105636Z
LAST-MODIFIED:20260204T105636Z
UID:21891-1797415200-1797422400@sightforsurrey.org.uk
SUMMARY:Meet Up Catch Up\, New Haw\, 16th December 2026
DESCRIPTION:Meet-Up Catch-Up is a friendly\, relaxed gathering aimed at bringing the local community together and reducing the social isolation often experienced by people who are Deaf or who have sight or hearing impairments. It’s an opportunity to meet others\, enjoy a conversation\, and make new friends in a warm\, supportive setting. No booking is required—simply drop in\, grab a cuppa\, have a biscuit\, and enjoy a chat! Whether you want to connect with others\, share your experiences\, or just enjoy some company\, we’d be delighted to have you join us. Everyone is welcome! \nEvery 3rd Wednesday of the month\, New Haw Library\,10am to 12pm.
URL:https://sightforsurrey.org.uk/event/meet-up-catch-up-new-haw-16th-december-2026/
LOCATION:New Haw Library\, 28A The Broadway\, New Haw\, KT15 3HA\, United Kingdom
ORGANIZER;CN="Sensory Services by Sight for Surrey":MAILTO:info@sightforsurrey.org.uk
END:VEVENT
BEGIN:VEVENT
DTSTART;TZID=UTC:20261221T110000
DTEND;TZID=UTC:20261221T140000
DTSTAMP:20260423T085540
CREATED:20260115T101458Z
LAST-MODIFIED:20260115T124005Z
UID:21719-1797850800-1797861600@sightforsurrey.org.uk
SUMMARY:Deaf Cafe\, Woking\, 21st December 2026
DESCRIPTION:Get yourself a cuppa and a cookie and be ready for a catch-up at the Deaf Cafe. Our cafes are run by Cathy\, our Deaf Community Coordinator\, and bring together the Deaf community in a welcoming and supportive environment. \nA variety of speakers and services will be present each month bringing tailored information in British Sign Language (BSL). \nBSL Interpreters will also be present. \nNo need to book just turn up.
URL:https://sightforsurrey.org.uk/event/deaf-cafe-woking-21st-december-2026/
LOCATION:Woking United Reform Church\, White Rose Lane\, Woking\, Surrey\, GU22 7HA\, United Kingdom
ORGANIZER;CN="Sensory Services by Sight for Surrey":MAILTO:info@sightforsurrey.org.uk
END:VEVENT
BEGIN:VEVENT
DTSTART;TZID=UTC:20261225T100000
DTEND;TZID=UTC:20261225T120000
DTSTAMP:20260423T085540
CREATED:20260204T110936Z
LAST-MODIFIED:20260204T110936Z
UID:21902-1798192800-1798200000@sightforsurrey.org.uk
SUMMARY:NO MEET UP CATCH UP\, 25 DECEMBER 2026
DESCRIPTION:NO MEET UP CATCH UP ON 25th DECEMBER 2026
URL:https://sightforsurrey.org.uk/event/no-meet-up-catch-up-25-december-2026/
LOCATION:Surrey
END:VEVENT
END:VCALENDAR