BEGIN:VCALENDAR
VERSION:2.0
PRODID:-//Sensory Services by Sight for Surrey - ECPv6.15.20//NONSGML v1.0//EN
CALSCALE:GREGORIAN
METHOD:PUBLISH
X-WR-CALNAME:Sensory Services by Sight for Surrey
X-ORIGINAL-URL:https://sightforsurrey.org.uk
X-WR-CALDESC:Events for Sensory Services by Sight for Surrey
REFRESH-INTERVAL;VALUE=DURATION:PT1H
X-Robots-Tag:noindex
X-PUBLISHED-TTL:PT1H
BEGIN:VTIMEZONE
TZID:UTC
BEGIN:STANDARD
TZOFFSETFROM:+0000
TZOFFSETTO:+0000
TZNAME:UTC
DTSTART:20230101T000000
END:STANDARD
END:VTIMEZONE
BEGIN:VEVENT
DTSTART;TZID=UTC:20240213T100000
DTEND;TZID=UTC:20240213T130000
DTSTAMP:20260424T004250
CREATED:20240205T142627Z
LAST-MODIFIED:20240205T142628Z
UID:17819-1707818400-1707829200@sightforsurrey.org.uk
SUMMARY:Deaf Coffee\, Redhill - 13th February
DESCRIPTION:If you are Deaf please join us at our social drop-in coffee event in Redhill. \nTuesday 13th February 10am – 1pm \nRedhill Methodist Church\, Gloucester Road\, Redhill\, Surrey\, RH1 1BP \nCome and join us\, meet new faces and socialise. Meet our Deaf Community Officers to get advice or support. British Sign Language interpreters available. Need another type of communication support? Contact us by one of the ways below and we will arrange it. No need to book\, just turn up! \nSkype: sensory.services \nFaceTime: dutysw@sensoryservices.org.uk \nSMS: 07860 026269 \nInterpreter Fax: 01372 353500 \nEmail: interpreting@sensoryservices.org.uk
URL:https://sightforsurrey.org.uk/event/deaf-coffee-redhill-13th-february/
LOCATION:Redhill Methodist Church\, Gloucester Road\, Redhill\, RH1 1BP\, United Kingdom
ATTACH;FMTTYPE=image/jpeg:https://sightforsurrey.org.uk/wp-content/uploads/2024/02/Deaf-Coffee-Morning-800-x-800.jpg
ORGANIZER;CN="Sensory Services by Sight for Surrey":MAILTO:info@sightforsurrey.org.uk
END:VEVENT
BEGIN:VEVENT
DTSTART;TZID=UTC:20240130T100000
DTEND;TZID=UTC:20240130T120000
DTSTAMP:20260424T004250
CREATED:20240130T100602Z
LAST-MODIFIED:20240130T102126Z
UID:17726-1706608800-1706616000@sightforsurrey.org.uk
SUMMARY:Meet Up & Catch Up\, Fetcham\, 30th January
DESCRIPTION:Join us at our informal Meet Up & Catch Up if you are Deaf\, hard of hearing\, blind\, partially sighted and deafblind on Tuesday 30th January. from 10am 10 – 12pm. \nDesigned to help bring the local community together\, and combat social isolation that many people who are Deaf\, or have sight or hearing loss can experience. \nThere is no need to book\, just turn up ready to have a cuppa and a chat\, and it won’t cost you a thing\, as it’s all completely free!
URL:https://sightforsurrey.org.uk/event/meet-up-catch-up-fetcham-30th-january/
LOCATION:Rentwood\, School Lane\, Fetcham\, KT22 9JX\, Rentwood\, School Lane\,\, Leatherhead\, Surrey\, KT22 9JX\, United Kingdom
CATEGORIES:Miscellaneous
ATTACH;FMTTYPE=image/jpeg:https://sightforsurrey.org.uk/wp-content/uploads/2023/12/Meet-Up-Catch-Up-600-x-400.jpg
ORGANIZER;CN="Sensory Services by Sight for Surrey":MAILTO:fundraising@sightforsurrey.org.uk
END:VEVENT
END:VCALENDAR